BEGIN:VCALENDAR
VERSION:2.0
PRODID:-//Župnija Smlednik - ECPv6.15.11//NONSGML v1.0//EN
CALSCALE:GREGORIAN
METHOD:PUBLISH
X-ORIGINAL-URL:https://www.zupnija-smlednik.si
X-WR-CALDESC:Dogodki za Župnija Smlednik
REFRESH-INTERVAL;VALUE=DURATION:PT1H
X-Robots-Tag:noindex
X-PUBLISHED-TTL:PT1H
BEGIN:VTIMEZONE
TZID:UTC
BEGIN:STANDARD
TZOFFSETFROM:+0000
TZOFFSETTO:+0000
TZNAME:UTC
DTSTART:20240101T000000
END:STANDARD
END:VTIMEZONE
BEGIN:VEVENT
DTSTART;TZID=UTC:20250607T073000
DTEND;TZID=UTC:20250607T180000
DTSTAMP:20260421T194246
CREATED:20250605T035808Z
LAST-MODIFIED:20250605T035842Z
UID:10000438-1749281400-1749319200@www.zupnija-smlednik.si
SUMMARY:Sv.romanje po poteh Friderika Ireneja Baraga za župniji Smlednik in Trboje
DESCRIPTION:V soboto 7. junija je celodnevno svetoletno romanje po poteh Friderika Ireneja Baraga za župniji Smlednik in Trboje (Smlednik/Trboje–Stična: romarska sv. maša in sv. spoved\, ogled verskega muzeja\, prilagojen za mlade\, in toplo kosilo–Mala vas: Baragova rojstna hiša–Dobrnič: Baragova krstna in rojstna župnija–Trebnje: župnija njegovega odraščanja–Smlednik/Trboje). Dar za romanje bo: 22\,00 € za otroke in 27\,00 € za odrasle. V dar bodo vključeni toplo kosilo\, prevoz\, vstopnine in prispevek za vodiča. Pijača bo iz popotne torbe\, priporočamo se tudi za kakšno termovko kave in pecivo. Prijavljenih je 73 romarjev iz obeh župnij (35 + 38). Avtobus je poln\, ker gremo z nadstropnim avtobusom.  \n\n\n\nOdhod bo ob 7.30 iz izpred GD v Trbojah za romarje iz župnije Trboje\, ob 7.35 pa pobira na avtobusni postaji v Valburgi (pri Joškovem parku puntarjev) še romarje iz župnije Smlednik. Vrnemo se do 18. ure.
URL:https://www.zupnija-smlednik.si/dogodek/sv-romanje-po-poteh-friderika-ireneja-baraga-za-zupniji-smlednik-in-trboje/
END:VEVENT
END:VCALENDAR