BEGIN:VCALENDAR
VERSION:2.0
PRODID:-//Župnija Smlednik - ECPv6.15.11//NONSGML v1.0//EN
CALSCALE:GREGORIAN
METHOD:PUBLISH
X-WR-CALNAME:Župnija Smlednik
X-ORIGINAL-URL:https://www.zupnija-smlednik.si
X-WR-CALDESC:Dogodki za Župnija Smlednik
REFRESH-INTERVAL;VALUE=DURATION:PT1H
X-Robots-Tag:noindex
X-PUBLISHED-TTL:PT1H
BEGIN:VTIMEZONE
TZID:UTC
BEGIN:STANDARD
TZOFFSETFROM:+0000
TZOFFSETTO:+0000
TZNAME:UTC
DTSTART:20230101T000000
END:STANDARD
END:VTIMEZONE
BEGIN:VEVENT
DTSTART;TZID=UTC:20241206T180000
DTEND;TZID=UTC:20241206T183000
DTSTAMP:20260421T113526
CREATED:20241130T190858Z
LAST-MODIFIED:20241130T190858Z
UID:10000412-1733508000-1733509800@www.zupnija-smlednik.si
SUMMARY:Prvi petek - pričevanje Klare Bodlaj
DESCRIPTION:Smo pred jubilejnim letom 2025\, ki nosi naslov Romarji upanja. S pobožnostjo prvih petkov in sobot\, bomo poglabljali vero. V petek\, 6.12.\, bo 45 minut pred sv. mašo v Smledniku priložnost za spoved\, molitev rožnega venca in litanij Srca Jezusovega pred Najsvetejšim\, pri sv. maši ob 18.00 pa bo pričevala Klara Bodlaj o Božjih milostih.
URL:https://www.zupnija-smlednik.si/dogodek/prvi-petek-pricevanje-klare-bodlaj/
END:VEVENT
BEGIN:VEVENT
DTSTART;TZID=UTC:20241216T180000
DTEND;TZID=UTC:20241224T180000
DTSTAMP:20260421T113526
CREATED:20241130T190234Z
LAST-MODIFIED:20241130T190235Z
UID:10000411-1734372000-1735063200@www.zupnija-smlednik.si
SUMMARY:Božična 8-dnevnica in božična tržnica
DESCRIPTION:V ponedeljek\, 16. decembra\, se za župniji Smlednik in Trboje prične Božična 8-dnevnica in božična tržnica.
URL:https://www.zupnija-smlednik.si/dogodek/bozicna-8-dnevnica-in-bozicna-trznica/
END:VEVENT
BEGIN:VEVENT
DTSTART;TZID=UTC:20241222T170000
DTEND;TZID=UTC:20241222T180000
DTSTAMP:20260421T113526
CREATED:20241130T190027Z
LAST-MODIFIED:20241130T190028Z
UID:10000410-1734886800-1734890400@www.zupnija-smlednik.si
SUMMARY:Božična spoved
DESCRIPTION:V nedeljo\, 22. decembra\, ob 17. uri v cerkvi sv. Urha za župniji Smlednik in Trboje poteka božična spoved.
URL:https://www.zupnija-smlednik.si/dogodek/bozicna-spoved/
END:VEVENT
BEGIN:VEVENT
DTSTART;TZID=UTC:20241228T190000
DTEND;TZID=UTC:20241228T203000
DTSTAMP:20260421T113526
CREATED:20241228T155930Z
LAST-MODIFIED:20241228T155930Z
UID:10000414-1735412400-1735417800@www.zupnija-smlednik.si
SUMMARY:Božični napevi sveta
DESCRIPTION:Vabimo vas na koncert božičnih pesmi našega pevskega zbora. \n\n\n\nLokacija: Župnijska cerkev sv. Urha\, Smlednik
URL:https://www.zupnija-smlednik.si/dogodek/bozicni-napevi-sveta/
END:VEVENT
END:VCALENDAR