BEGIN:VCALENDAR
VERSION:2.0
PRODID:-//Župnija Smlednik - ECPv6.15.11//NONSGML v1.0//EN
CALSCALE:GREGORIAN
METHOD:PUBLISH
X-WR-CALNAME:Župnija Smlednik
X-ORIGINAL-URL:https://www.zupnija-smlednik.si
X-WR-CALDESC:Dogodki za Župnija Smlednik
REFRESH-INTERVAL;VALUE=DURATION:PT1H
X-Robots-Tag:noindex
X-PUBLISHED-TTL:PT1H
BEGIN:VTIMEZONE
TZID:UTC
BEGIN:STANDARD
TZOFFSETFROM:+0000
TZOFFSETTO:+0000
TZNAME:UTC
DTSTART:20240101T000000
END:STANDARD
END:VTIMEZONE
BEGIN:VEVENT
DTSTART;TZID=UTC:20250513T000000
DTEND;TZID=UTC:20250513T235959
DTSTAMP:20260421T194218
CREATED:20250406T082917Z
LAST-MODIFIED:20250406T082941Z
UID:10000436-1747094400-1747180799@www.zupnija-smlednik.si
SUMMARY:Predstavitev stripa o Jakobu Aljažu
DESCRIPTION:V TOREK\, 13. MAJ  bo v knjižnici Medvode predstavitev stripa Jakob Aljaž – Bojevnik za slovenske gore in slovenstvo\, ki ga bo izdala Mohorjeva založba v Celju ter je delo župnika Davida Jensterle in Juana Juvančiča;
URL:https://www.zupnija-smlednik.si/dogodek/1277/
END:VEVENT
END:VCALENDAR