BEGIN:VCALENDAR
VERSION:2.0
PRODID:-//Župnija Smlednik - ECPv6.15.11//NONSGML v1.0//EN
CALSCALE:GREGORIAN
METHOD:PUBLISH
X-ORIGINAL-URL:https://www.zupnija-smlednik.si
X-WR-CALDESC:Dogodki za Župnija Smlednik
REFRESH-INTERVAL;VALUE=DURATION:PT1H
X-Robots-Tag:noindex
X-PUBLISHED-TTL:PT1H
BEGIN:VTIMEZONE
TZID:UTC
BEGIN:STANDARD
TZOFFSETFROM:+0000
TZOFFSETTO:+0000
TZNAME:UTC
DTSTART:20240101T000000
END:STANDARD
END:VTIMEZONE
BEGIN:VEVENT
DTSTART;TZID=UTC:20250509T193000
DTEND;TZID=UTC:20250509T210000
DTSTAMP:20260421T194246
CREATED:20250406T082632Z
LAST-MODIFIED:20250406T082632Z
UID:10000435-1746819000-1746824400@www.zupnija-smlednik.si
SUMMARY:Okrogla miza o duhovniku Jakobu Aljažu
DESCRIPTION:V PETEK\, 9. MAJ bo v KD Smlednik ob 19.30 okrogla miza z Dušanom Škodičem in Petro Bandelj o duhovniku Jakobu Aljažu. S tem dogodkom bomo v naši župniji začeli praznovanje ob 180. obletnici rojstva našega rojaka\, duhovnika in zavednega Slovenca\,  Jakoba Aljaža. \n\n\n\nLepo povabljeni !
URL:https://www.zupnija-smlednik.si/dogodek/okrogla-miza-o-duhovniku-jakobu-aljazu/
END:VEVENT
END:VCALENDAR