BEGIN:VCALENDAR
VERSION:2.0
PRODID:-//Župnija Smlednik - ECPv6.15.11//NONSGML v1.0//EN
CALSCALE:GREGORIAN
METHOD:PUBLISH
X-WR-CALNAME:Župnija Smlednik
X-ORIGINAL-URL:https://www.zupnija-smlednik.si
X-WR-CALDESC:Dogodki za Župnija Smlednik
REFRESH-INTERVAL;VALUE=DURATION:PT1H
X-Robots-Tag:noindex
X-PUBLISHED-TTL:PT1H
BEGIN:VTIMEZONE
TZID:UTC
BEGIN:STANDARD
TZOFFSETFROM:+0000
TZOFFSETTO:+0000
TZNAME:UTC
DTSTART:20240101T000000
END:STANDARD
END:VTIMEZONE
BEGIN:VEVENT
DTSTART;TZID=UTC:20250326T170000
DTEND;TZID=UTC:20250326T180000
DTSTAMP:20260421T164841
CREATED:20250315T152733Z
LAST-MODIFIED:20250315T152804Z
UID:10000434-1743008400-1743012000@www.zupnija-smlednik.si
SUMMARY:KARITAS - SPOMLADANSKA IN POLETNA oblačila
DESCRIPTION:Župnijska Karitas obvešča župljane in župljanke župnij Smlednik in Trboje\, da bomo dne 26. 03. 2025 med 17. in 18. uro zbirali  SPOMLADANSKA IN POLETNA oblačila. Oblačila\, ki jih ne potrebujete več in bi jih lahko uporabili še drugi\, jih prinesite v prostore Karitas v Smledniku. Oblačila naj bodo oprana in zlikana\, saj tako zahtevajo standardi Slovenske Karitas. Že v naprej se vam zahvaljujemo za vaše darove! Prav tako vabljeni tudi tisti\, ki potrebujete obleke ali vam lahko pomagamo kako drugače.
URL:https://www.zupnija-smlednik.si/dogodek/karitas-zbiranje-oblacila/
END:VEVENT
END:VCALENDAR