BEGIN:VCALENDAR
VERSION:2.0
PRODID:-//Župnija Smlednik - ECPv6.15.11//NONSGML v1.0//EN
CALSCALE:GREGORIAN
METHOD:PUBLISH
X-WR-CALNAME:Župnija Smlednik
X-ORIGINAL-URL:https://www.zupnija-smlednik.si
X-WR-CALDESC:Dogodki za Župnija Smlednik
REFRESH-INTERVAL;VALUE=DURATION:PT1H
X-Robots-Tag:noindex
X-PUBLISHED-TTL:PT1H
BEGIN:VTIMEZONE
TZID:UTC
BEGIN:STANDARD
TZOFFSETFROM:+0000
TZOFFSETTO:+0000
TZNAME:UTC
DTSTART:20240101T000000
END:STANDARD
END:VTIMEZONE
BEGIN:VEVENT
DTSTART;TZID=UTC:20250319T000000
DTEND;TZID=UTC:20250325T235959
DTSTAMP:20260421T164842
CREATED:20250315T152430Z
LAST-MODIFIED:20250315T152431Z
UID:10000433-1742342400-1742947199@www.zupnija-smlednik.si
SUMMARY:Teden družine
DESCRIPTION:V svetem letu 2025 je geslo Tedna družine »Pričevalci upanja«. Namen tega tedna je\, da ozavestimo\, da smo vsi kristjani pričevalci in prinašalci upanja. Najprej smo to v družini\, potem pa tudi v širšem okolju\, kjer živimo. Upanje lahko prinašamo drugim le\, če ga imamo najprej sami. Je zastonjski dar od Boga. Ne daje nam ga na zalogo\, vendar iz dneva v dan. Bog želi da ta dar sprejmemo\, ga negujemo\, z njim sodelujemo in ga širimo. Kako to narediti? S pomočjo petih stebrov duhovnega življenja\, ki so: Sveto pismo\, molitev\, zakramenti\, skupnost in služenje. V Tednu družine 2025 se bomo med 19. in 25. marcem vsak dan posvetili enemu od teh stebrov našega upanja ter zgledu Jožefa in Marije (sv. Jožef\, Sveto pismo\, molitev\, zakramenti\, romanje ali križev pot\, skupnost\, služenje – sv. Mati Marija). Video nagovori in drugi posnetki bodo na voljo na povezavi portalov www.katoliska-cerkev.si in www.pridi.com. Zakonci bodo povabljeni\, da v tem tednu s pomočjo aplikacije prehodijo posebno pot\, in se tako še bolj povežejo v upanju.
URL:https://www.zupnija-smlednik.si/dogodek/teden-druzine/
END:VEVENT
BEGIN:VEVENT
DTSTART;TZID=UTC:20250325T190000
DTEND;TZID=UTC:20250325T203000
DTSTAMP:20260421T164842
CREATED:20250314T180822Z
LAST-MODIFIED:20250315T152844Z
UID:10000432-1742929200-1742934600@www.zupnija-smlednik.si
SUMMARY:Usmiljeni Samarijan\, opereta
DESCRIPTION:Lepo vabljeni na opereto Usmiljeni Samarijan\, ki bo v torek\, 25. marca\, ob 19.00 v dvorani Matije Tomca (Zavod svetega Stanislava). Primerna je za vse starosti\, saj nosi močno sporočilo o sočutju in dobroti.  Opereta je nastala po svetopisemski priliki Usmiljeni Samarijan\, ki nas spodbuja k pomoči bližnjemu\, ne glede na razlike med nami. S petjem in igro bomo skupaj doživeli to čudovito zgodbo\, ki nas nagovarja tudi danes. Ob tej priložnosti bomo zbirali prostovoljne prispevke za otroke v misijonih v Liberiji. Prisrčno vabljeni!
URL:https://www.zupnija-smlednik.si/dogodek/usmiljeni-samarijan-opereta/
END:VEVENT
END:VCALENDAR