BEGIN:VCALENDAR
VERSION:2.0
PRODID:-//Župnija Smlednik - ECPv6.15.11//NONSGML v1.0//EN
CALSCALE:GREGORIAN
METHOD:PUBLISH
X-ORIGINAL-URL:https://www.zupnija-smlednik.si
X-WR-CALDESC:Dogodki za Župnija Smlednik
REFRESH-INTERVAL;VALUE=DURATION:PT1H
X-Robots-Tag:noindex
X-PUBLISHED-TTL:PT1H
BEGIN:VTIMEZONE
TZID:UTC
BEGIN:STANDARD
TZOFFSETFROM:+0000
TZOFFSETTO:+0000
TZNAME:UTC
DTSTART:20240101T000000
END:STANDARD
END:VTIMEZONE
BEGIN:VEVENT
DTSTART;TZID=UTC:20250209T000000
DTEND;TZID=UTC:20250305T235959
DTSTAMP:20260421T165057
CREATED:20250209T193830Z
LAST-MODIFIED:20250215T203223Z
UID:10000431-1739059200-1741219199@www.zupnija-smlednik.si
SUMMARY:Razstava o blaženem A.M.Slomšku
DESCRIPTION:Razstavo je pripravila mag. Lilijana Urlep iz nadškofijskega arhiva v Mariboru ob 200. obletnici mašniškega posvečenja blaženega Antona Martina Slomška\,  ki smo jo praznovali v lanskem letu in je obiskala že več slovenskih župnij. Tokrat se je ustavila pri nas. \n\n\n\nPrikazano nam je življenje blaženega Antona Martina Slomška\, ki je bil velik duhovnik in domoljub pa hkrati tudi zelo spošljiv do vseh drugih narodov. Ogledamo si lahko različne dokumente in fotografije iz njegovega življenja in ustvarjalne zapuščine. \n\n\n\nV naši župnijski cerkvi bo razstava na ogled do 9. marca. Preko dneva bo v tem času župnijska cerkev odprta tudi izven ur\, ko poteka bogoslužje.  Lepo povabljeni. \n\n\n\nVeč o življenju blaženega Slomška si lahko ogledate na spletni strani: Življenje - Anton Martin Slomšek
URL:https://www.zupnija-smlednik.si/dogodek/razstava-o-blazenem-a-m-slomsku/
END:VEVENT
END:VCALENDAR