BEGIN:VCALENDAR
VERSION:2.0
PRODID:-//Župnija Smlednik - ECPv6.15.11//NONSGML v1.0//EN
CALSCALE:GREGORIAN
METHOD:PUBLISH
X-ORIGINAL-URL:https://www.zupnija-smlednik.si
X-WR-CALDESC:Dogodki za Župnija Smlednik
REFRESH-INTERVAL;VALUE=DURATION:PT1H
X-Robots-Tag:noindex
X-PUBLISHED-TTL:PT1H
BEGIN:VTIMEZONE
TZID:UTC
BEGIN:STANDARD
TZOFFSETFROM:+0000
TZOFFSETTO:+0000
TZNAME:UTC
DTSTART:20240101T000000
END:STANDARD
END:VTIMEZONE
BEGIN:VEVENT
DTSTART;TZID=UTC:20250131T183000
DTEND;TZID=UTC:20250131T193000
DTSTAMP:20260421T141101
CREATED:20250121T202351Z
LAST-MODIFIED:20250121T202526Z
UID:10000426-1738348200-1738351800@www.zupnija-smlednik.si
SUMMARY:Koncert božičnih pesmi iz Ukrajine
DESCRIPTION:V petek \, 31.1. 2025 ob 18.30\, lepo povabljeni v cerkev Sv.Urha v Smledniku na koncert božičnih pesmi iz Ukrajine\, v izvedbi zbora Drevo Volje. \n\n\n\nProgram koncerta: \n\n\n\n1 Ali je gospodar doma ali ne? \n\n\n\n2 Pri gospodarju je nova svetloba \n\n\n\n3 V nedeljo sonce zgodaj vstane  \n\n\n\n4 Oh\, siva kukavica \n\n\n\n5 Dober večer vam\, gospod \n\n\n\n6 Sveta noč;  skladatelj F. Gruber \n\n\n\n7 Devica Marija; skladatelj V. Jakimec  \n\n\n\n8 Spi\, Jezus\, spi;  skladatelj V.Jakimec \n\n\n\n9 Prišla je nova radost \n\n\n\n10 Daj\, o Bog\, žito \n\n\n\n11 Nebo in zemlja (baročna polifonija)
URL:https://www.zupnija-smlednik.si/dogodek/koncert-bozicnih-pesmi-iz-ukarjine/
ATTACH;FMTTYPE=image/jpeg:https://www.zupnija-smlednik.si/wp-content/uploads/2025/01/smlednik-31-01-koncert.jpg
END:VEVENT
END:VCALENDAR