BEGIN:VCALENDAR
VERSION:2.0
PRODID:-//Župnija Smlednik - ECPv6.15.11//NONSGML v1.0//EN
CALSCALE:GREGORIAN
METHOD:PUBLISH
X-ORIGINAL-URL:https://www.zupnija-smlednik.si
X-WR-CALDESC:Dogodki za Župnija Smlednik
REFRESH-INTERVAL;VALUE=DURATION:PT1H
X-Robots-Tag:noindex
X-PUBLISHED-TTL:PT1H
BEGIN:VTIMEZONE
TZID:UTC
BEGIN:STANDARD
TZOFFSETFROM:+0000
TZOFFSETTO:+0000
TZNAME:UTC
DTSTART:20240101T000000
END:STANDARD
END:VTIMEZONE
BEGIN:VEVENT
DTSTART;TZID=UTC:20250124T180000
DTEND;TZID=UTC:20250124T200000
DTSTAMP:20260421T141102
CREATED:20250112T183912Z
LAST-MODIFIED:20250112T183913Z
UID:10000416-1737741600-1737748800@www.zupnija-smlednik.si
SUMMARY:Srečanje s prof.\, duh. Stankom Gerjolom
DESCRIPTION:V petek\, 24. januarja\, bo po večerni sv. maši v Smledniku profesor in duhovnik Stane Gerjolj soočil bodoče birmance župnij Smlednik in Trboje ter njihove starše. Pred srečanjem povabljeni k delavniški sv. maši.
URL:https://www.zupnija-smlednik.si/dogodek/srecanje-s-prof-duh-stankom-gerjolom/
END:VEVENT
END:VCALENDAR