BEGIN:VCALENDAR
VERSION:2.0
PRODID:-//Župnija Smlednik - ECPv6.15.11//NONSGML v1.0//EN
CALSCALE:GREGORIAN
METHOD:PUBLISH
X-ORIGINAL-URL:https://www.zupnija-smlednik.si
X-WR-CALDESC:Dogodki za Župnija Smlednik
REFRESH-INTERVAL;VALUE=DURATION:PT1H
X-Robots-Tag:noindex
X-PUBLISHED-TTL:PT1H
BEGIN:VTIMEZONE
TZID:UTC
BEGIN:STANDARD
TZOFFSETFROM:+0000
TZOFFSETTO:+0000
TZNAME:UTC
DTSTART:20240101T000000
END:STANDARD
END:VTIMEZONE
BEGIN:VEVENT
DTSTART;TZID=UTC:20250111T170000
DTEND;TZID=UTC:20250112T170000
DTSTAMP:20260421T141118
CREATED:20241228T155638Z
LAST-MODIFIED:20241228T155716Z
UID:10000413-1736614800-1736701200@www.zupnija-smlednik.si
SUMMARY:Oratorij Mesija baročnega skladatelja Georga Fridericha Händla
DESCRIPTION:Komorni zbor Megaron vas vabi\, da skupaj sklenemo letošnje božično praznovanje in vstopimo v novo leto 2025 s poglobljenim pogledom na Jezusovo odrešenjsko zgodbo. V Slovenski filharmoniji bo 11. in 12. januarja že tretje leto zapored zazvenel slavni oratorij Mesija baročnega skladatelja Georga Fridericha Händla. Izjemne izvajalce\, svetovno uveljavljene soliste\, Baročni orkester in Komorni zbor Megaron bo vodil sloviti švedski dirigent Gary Graden. Pravijo\, da bi moral vsak človek vsaj enkrat v življenju slišati Händlov oratorij v celoti\, za nas kristjane pa je še posebej pomembno\, da pogosto premišljujemo o Kristusovem življenju. Dragocena tradicija\, ki je v tujini del obhajanja božičnih praznikov velikega števila kristjanov\, je prav vsakoletno poslušanje oratorija Mesija. Glasbena upodobitev Jezusovega življenja odpira dodatno dimenzijo\, ki omogoča vrhunsko glasbeno in duhovno doživetje. Prisrčno vabljeni v Slovensko filharmonijo\, da bomo skupaj v »oratoriju oratorijev« podoživeli odrešenjske skrivnosti. \n\n\n\nGary Graden in Komorni zbor Megaron | Oratorij Mesija – G. F. Händel – Komorni zbor Megaron
URL:https://www.zupnija-smlednik.si/dogodek/oratorij-mesija-barocnega-skladatelja-georga-fridericha-handla/
END:VEVENT
END:VCALENDAR