BEGIN:VCALENDAR
VERSION:2.0
PRODID:-//Župnija Smlednik - ECPv6.15.11//NONSGML v1.0//EN
CALSCALE:GREGORIAN
METHOD:PUBLISH
X-WR-CALNAME:Župnija Smlednik
X-ORIGINAL-URL:https://www.zupnija-smlednik.si
X-WR-CALDESC:Dogodki za Župnija Smlednik
REFRESH-INTERVAL;VALUE=DURATION:PT1H
X-Robots-Tag:noindex
X-PUBLISHED-TTL:PT1H
BEGIN:VTIMEZONE
TZID:UTC
BEGIN:STANDARD
TZOFFSETFROM:+0000
TZOFFSETTO:+0000
TZNAME:UTC
DTSTART:20230101T000000
END:STANDARD
END:VTIMEZONE
BEGIN:VEVENT
DTSTART;TZID=UTC:20241129T193000
DTEND;TZID=UTC:20241129T203000
DTSTAMP:20260421T113439
CREATED:20241117T181600Z
LAST-MODIFIED:20241117T181601Z
UID:10000409-1732908600-1732912200@www.zupnija-smlednik.si
SUMMARY:Dobrodelni koncert
DESCRIPTION:Župnijska karitas Smlednik vabi na DOBRODELNI KONCERT “ POTI DO SRCA “ v petek 29. novembra 2024 ob 19.30 v Kulturnem domu Smlednik. \n\n\n\nVsi vaši prostovoljni prispevki bodo namenjeni družinam v stiski.  \n\n\n\nPridite\, veseli vas bomo!
URL:https://www.zupnija-smlednik.si/dogodek/dobrodelni-koncert/
END:VEVENT
END:VCALENDAR