BEGIN:VCALENDAR
VERSION:2.0
PRODID:-//Župnija Smlednik - ECPv6.15.11//NONSGML v1.0//EN
CALSCALE:GREGORIAN
METHOD:PUBLISH
X-ORIGINAL-URL:https://www.zupnija-smlednik.si
X-WR-CALDESC:Dogodki za Župnija Smlednik
REFRESH-INTERVAL;VALUE=DURATION:PT1H
X-Robots-Tag:noindex
X-PUBLISHED-TTL:PT1H
BEGIN:VTIMEZONE
TZID:UTC
BEGIN:STANDARD
TZOFFSETFROM:+0000
TZOFFSETTO:+0000
TZNAME:UTC
DTSTART:20230101T000000
END:STANDARD
END:VTIMEZONE
BEGIN:VEVENT
DTSTART;TZID=UTC:20241117T150000
DTEND;TZID=UTC:20241117T170000
DTSTAMP:20260421T113525
CREATED:20241113T203857Z
LAST-MODIFIED:20241113T203857Z
UID:10000407-1731855600-1731862800@www.zupnija-smlednik.si
SUMMARY:Dekanijsko srečanje članov ŽPS
DESCRIPTION:V nedeljo 17. 11. 2024\, ob 15. uri dekanijsko srečanje članov ŽPS\, v Velesovem\, kamor smo lepo vabljeni.
URL:https://www.zupnija-smlednik.si/dogodek/dekanijsko-srecanje-clanov-zps/
END:VEVENT
END:VCALENDAR