BEGIN:VCALENDAR
VERSION:2.0
PRODID:-//Župnija Smlednik - ECPv6.15.11//NONSGML v1.0//EN
CALSCALE:GREGORIAN
METHOD:PUBLISH
X-ORIGINAL-URL:https://www.zupnija-smlednik.si
X-WR-CALDESC:Dogodki za Župnija Smlednik
REFRESH-INTERVAL;VALUE=DURATION:PT1H
X-Robots-Tag:noindex
X-PUBLISHED-TTL:PT1H
BEGIN:VTIMEZONE
TZID:UTC
BEGIN:STANDARD
TZOFFSETFROM:+0000
TZOFFSETTO:+0000
TZNAME:UTC
DTSTART:20230101T000000
END:STANDARD
END:VTIMEZONE
BEGIN:VEVENT
DTSTART;TZID=UTC:20241109T000000
DTEND;TZID=UTC:20241109T235959
DTSTAMP:20260421T113648
CREATED:20240916T155211Z
LAST-MODIFIED:20240916T155426Z
UID:10000404-1731110400-1731196799@www.zupnija-smlednik.si
SUMMARY:VEROUČNE KATEHEZE ZA VSE (Gabrijel Kavčič)
DESCRIPTION:9. november 2024 – večerno srečanje staršev za vse razrede župnij Smlednik in Trboje v Smledniku z duhovnikom in vzgojiteljem Gabrijelom Kavčičem;  …;
URL:https://www.zupnija-smlednik.si/dogodek/veroucne-kateheze-za-vse-2/
END:VEVENT
END:VCALENDAR