BEGIN:VCALENDAR
VERSION:2.0
PRODID:-//Župnija Smlednik - ECPv6.15.11//NONSGML v1.0//EN
CALSCALE:GREGORIAN
METHOD:PUBLISH
X-ORIGINAL-URL:https://www.zupnija-smlednik.si
X-WR-CALDESC:Dogodki za Župnija Smlednik
REFRESH-INTERVAL;VALUE=DURATION:PT1H
X-Robots-Tag:noindex
X-PUBLISHED-TTL:PT1H
BEGIN:VTIMEZONE
TZID:UTC
BEGIN:STANDARD
TZOFFSETFROM:+0000
TZOFFSETTO:+0000
TZNAME:UTC
DTSTART:20230101T000000
END:STANDARD
END:VTIMEZONE
BEGIN:VEVENT
DTSTART;TZID=UTC:20240707T090000
DTEND;TZID=UTC:20240707T100000
DTSTAMP:20260421T090500
CREATED:20240512T111045Z
LAST-MODIFIED:20240629T125640Z
UID:10000336-1720342800-1720346400@www.zupnija-smlednik.si
SUMMARY:Urhova nedelja v župniji Smlednik
DESCRIPTION:V nedeljo\, 7. 7. 2024 bo Urhova nedelja. Po sveti maši bo sledil premierni ogled risanega animiranega filma o velikem rojaku duhovniku Jakobu Aljažu\, ki bo na ta dan na voljo tudi na USB ključku (dar 10 €)\, na voljo pa bodo tudi spominski kozarci z podobo Jakoba Aljaža in z naslovom filma Za vse nas\, Slovence gre (dar 13 €).
URL:https://www.zupnija-smlednik.si/dogodek/urhova-nedelja/
ATTACH;FMTTYPE=image/jpeg:https://www.zupnija-smlednik.si/wp-content/uploads/2024/05/50-risani-jakob-alajz-film.jpg
END:VEVENT
END:VCALENDAR