BEGIN:VCALENDAR
VERSION:2.0
PRODID:-//Župnija Smlednik - ECPv6.15.11//NONSGML v1.0//EN
CALSCALE:GREGORIAN
METHOD:PUBLISH
X-ORIGINAL-URL:https://www.zupnija-smlednik.si
X-WR-CALDESC:Dogodki za Župnija Smlednik
REFRESH-INTERVAL;VALUE=DURATION:PT1H
X-Robots-Tag:noindex
X-PUBLISHED-TTL:PT1H
BEGIN:VTIMEZONE
TZID:UTC
BEGIN:STANDARD
TZOFFSETFROM:+0000
TZOFFSETTO:+0000
TZNAME:UTC
DTSTART:20230101T000000
END:STANDARD
END:VTIMEZONE
BEGIN:VEVENT
DTSTART;TZID=UTC:20240616T000000
DTEND;TZID=UTC:20240616T235959
DTSTAMP:20260421T101947
CREATED:20240512T110939Z
LAST-MODIFIED:20240521T192738Z
UID:10000335-1718496000-1718582399@www.zupnija-smlednik.si
SUMMARY:Nedelja zakonskih jubilantov v župniji Smlednik in Trboje
DESCRIPTION:V nedeljo\, 16. 6. 2024 je nedelja zakonskih jubilantov v Smledniku ob 9. uri in v Trbojah ob 10.30. K prijavi vabljeni vsi zakonski jubilanti\, ki praznujete 5\, 10\, 15\, …\, 50\, … let. Prijavite se župniku.
URL:https://www.zupnija-smlednik.si/dogodek/nedelja-zakonskih-jubilantov/
ATTACH;FMTTYPE=image/jpeg:https://www.zupnija-smlednik.si/wp-content/uploads/2024/05/groom-putting-ring-bride-s-finger.jpg
END:VEVENT
END:VCALENDAR